BEGIN:VCALENDAR
VERSION:2.0
PRODID:-//AUC-badminton - ECPv6.15.20//NONSGML v1.0//EN
CALSCALE:GREGORIAN
METHOD:PUBLISH
X-ORIGINAL-URL:http://www.aucbadminton.fr
X-WR-CALDESC:Events for AUC-badminton
REFRESH-INTERVAL;VALUE=DURATION:PT1H
X-Robots-Tag:noindex
X-PUBLISHED-TTL:PT1H
BEGIN:VTIMEZONE
TZID:Europe/Paris
BEGIN:DAYLIGHT
TZOFFSETFROM:+0100
TZOFFSETTO:+0200
TZNAME:CEST
DTSTART:20220327T010000
END:DAYLIGHT
BEGIN:STANDARD
TZOFFSETFROM:+0200
TZOFFSETTO:+0100
TZNAME:CET
DTSTART:20221030T010000
END:STANDARD
BEGIN:DAYLIGHT
TZOFFSETFROM:+0100
TZOFFSETTO:+0200
TZNAME:CEST
DTSTART:20230326T010000
END:DAYLIGHT
BEGIN:STANDARD
TZOFFSETFROM:+0200
TZOFFSETTO:+0100
TZNAME:CET
DTSTART:20231029T010000
END:STANDARD
BEGIN:DAYLIGHT
TZOFFSETFROM:+0100
TZOFFSETTO:+0200
TZNAME:CEST
DTSTART:20240331T010000
END:DAYLIGHT
BEGIN:STANDARD
TZOFFSETFROM:+0200
TZOFFSETTO:+0100
TZNAME:CET
DTSTART:20241027T010000
END:STANDARD
END:VTIMEZONE
BEGIN:VEVENT
DTSTART;TZID=Europe/Paris:20231201T170000
DTEND;TZID=Europe/Paris:20231201T220000
DTSTAMP:20260423T192740
CREATED:20231119T145647Z
LAST-MODIFIED:20231119T145647Z
UID:1944-1701450000-1701468000@www.aucbadminton.fr
SUMMARY:ENTRAÎNEMENT LIBRE – GYMNASE LOUISON BOBET
DESCRIPTION:
URL:http://www.aucbadminton.fr/event/entrainement-libre-gymnase-louison-bobet-45/
END:VEVENT
BEGIN:VEVENT
DTSTART;TZID=Europe/Paris:20231202T100000
DTEND;TZID=Europe/Paris:20231202T140000
DTSTAMP:20260423T192740
CREATED:20231130T070130Z
LAST-MODIFIED:20231130T070130Z
UID:1997-1701511200-1701525600@www.aucbadminton.fr
SUMMARY:ENTRAÎNEMENT LIBRE – GYMNASE LOUISON BOBET
DESCRIPTION:
URL:http://www.aucbadminton.fr/event/entrainement-libre-gymnase-louison-bobet-50/
END:VEVENT
BEGIN:VEVENT
DTSTART;TZID=Europe/Paris:20231204T170000
DTEND;TZID=Europe/Paris:20231204T220000
DTSTAMP:20260423T192740
CREATED:20231127T063552Z
LAST-MODIFIED:20231127T063552Z
UID:1973-1701709200-1701727200@www.aucbadminton.fr
SUMMARY:ENTRAÎNEMENT LIBRE – GYMNASE LOUISON BOBET
DESCRIPTION:
URL:http://www.aucbadminton.fr/event/entrainement-libre-gymnase-louison-bobet-46/
END:VEVENT
BEGIN:VEVENT
DTSTART;TZID=Europe/Paris:20231205T170000
DTEND;TZID=Europe/Paris:20231205T220000
DTSTAMP:20260423T192740
CREATED:20231127T063616Z
LAST-MODIFIED:20231127T063616Z
UID:1975-1701795600-1701813600@www.aucbadminton.fr
SUMMARY:ENTRAÎNEMENT LIBRE – GYMNASE LOUISON BOBET
DESCRIPTION:
URL:http://www.aucbadminton.fr/event/entrainement-libre-gymnase-louison-bobet-47/
END:VEVENT
BEGIN:VEVENT
DTSTART;TZID=Europe/Paris:20231206T190000
DTEND;TZID=Europe/Paris:20231206T220000
DTSTAMP:20260423T192740
CREATED:20231127T063643Z
LAST-MODIFIED:20231127T063643Z
UID:1977-1701889200-1701900000@www.aucbadminton.fr
SUMMARY:ENTRAÎNEMENT LIBRE – GYMNASE LOUISON BOBET
DESCRIPTION:
URL:http://www.aucbadminton.fr/event/entrainement-libre-gymnase-louison-bobet-48/
END:VEVENT
BEGIN:VEVENT
DTSTART;TZID=Europe/Paris:20231207T190000
DTEND;TZID=Europe/Paris:20231207T220000
DTSTAMP:20260423T192740
CREATED:20231127T063709Z
LAST-MODIFIED:20231127T063709Z
UID:1979-1701975600-1701986400@www.aucbadminton.fr
SUMMARY:ENTRAÎNEMENT LIBRE – GYMNASE YVAN GROS
DESCRIPTION:
URL:http://www.aucbadminton.fr/event/entrainement-libre-gymnase-yvan-gros-8/
END:VEVENT
BEGIN:VEVENT
DTSTART;TZID=Europe/Paris:20231208T170000
DTEND;TZID=Europe/Paris:20231208T220000
DTSTAMP:20260423T192740
CREATED:20231127T063732Z
LAST-MODIFIED:20231127T063732Z
UID:1981-1702054800-1702072800@www.aucbadminton.fr
SUMMARY:ENTRAÎNEMENT LIBRE – GYMNASE LOUISON BOBET
DESCRIPTION:
URL:http://www.aucbadminton.fr/event/entrainement-libre-gymnase-louison-bobet-49/
END:VEVENT
BEGIN:VEVENT
DTSTART;TZID=Europe/Paris:20231209T100000
DTEND;TZID=Europe/Paris:20231209T140000
DTSTAMP:20260423T192740
CREATED:20231205T202419Z
LAST-MODIFIED:20231205T202419Z
UID:2056-1702116000-1702130400@www.aucbadminton.fr
SUMMARY:ENTRAÎNEMENT LIBRE – GYMNASE LOUISON BOBET
DESCRIPTION:
URL:http://www.aucbadminton.fr/event/entrainement-libre-gymnase-louison-bobet-54/
END:VEVENT
BEGIN:VEVENT
DTSTART;TZID=Europe/Paris:20231211T170000
DTEND;TZID=Europe/Paris:20231211T220000
DTSTAMP:20260423T192740
CREATED:20231203T165853Z
LAST-MODIFIED:20231203T165853Z
UID:2042-1702314000-1702332000@www.aucbadminton.fr
SUMMARY:ENTRAÎNEMENT LIBRE – GYMNASE LOUISON BOBET
DESCRIPTION:
URL:http://www.aucbadminton.fr/event/entrainement-libre-gymnase-louison-bobet-51/
END:VEVENT
BEGIN:VEVENT
DTSTART;TZID=Europe/Paris:20231212T170000
DTEND;TZID=Europe/Paris:20231212T220000
DTSTAMP:20260423T192740
CREATED:20231203T165917Z
LAST-MODIFIED:20231203T165917Z
UID:2044-1702400400-1702418400@www.aucbadminton.fr
SUMMARY:ENTRAÎNEMENT LIBRE – GYMNASE LOUISON BOBET
DESCRIPTION:
URL:http://www.aucbadminton.fr/event/entrainement-libre-gymnase-louison-bobet-52/
END:VEVENT
BEGIN:VEVENT
DTSTART;TZID=Europe/Paris:20231213T190000
DTEND;TZID=Europe/Paris:20231213T220000
DTSTAMP:20260423T192740
CREATED:20231130T102646Z
LAST-MODIFIED:20231130T102646Z
UID:2003-1702494000-1702504800@www.aucbadminton.fr
SUMMARY:Jeu libre annulé
DESCRIPTION:Pas de jeu libre à Bobet entre 19h et 22h : les terrains sont réservés aux rencontres d’Interclubs Départementaux (D1 contre Ensuès\, D4 contre Salon et D7 contre Vitrolles)
URL:http://www.aucbadminton.fr/event/jeu-libre-annule/
END:VEVENT
BEGIN:VEVENT
DTSTART;TZID=Europe/Paris:20231214T190000
DTEND;TZID=Europe/Paris:20231214T220000
DTSTAMP:20260423T192740
CREATED:20231203T170019Z
LAST-MODIFIED:20231203T170019Z
UID:2046-1702580400-1702591200@www.aucbadminton.fr
SUMMARY:ENTRAÎNEMENT LIBRE – GYMNASE YVAN GROS
DESCRIPTION:
URL:http://www.aucbadminton.fr/event/entrainement-libre-gymnase-yvan-gros-9/
END:VEVENT
BEGIN:VEVENT
DTSTART;TZID=Europe/Paris:20231215T170000
DTEND;TZID=Europe/Paris:20231215T220000
DTSTAMP:20260423T192740
CREATED:20231203T170046Z
LAST-MODIFIED:20231203T170046Z
UID:2048-1702659600-1702677600@www.aucbadminton.fr
SUMMARY:ENTRAÎNEMENT LIBRE – GYMNASE LOUISON BOBET
DESCRIPTION:
URL:http://www.aucbadminton.fr/event/entrainement-libre-gymnase-louison-bobet-53/
END:VEVENT
BEGIN:VEVENT
DTSTART;TZID=Europe/Paris:20231216T100000
DTEND;TZID=Europe/Paris:20231216T140000
DTSTAMP:20260423T192740
CREATED:20231128T102146Z
LAST-MODIFIED:20231128T102146Z
UID:1990-1702720800-1702735200@www.aucbadminton.fr
SUMMARY:Annulation créneau
DESCRIPTION:Pas de jeu libre à Bobet en raison de l’organisation d’une compétition d’Escrime.
URL:http://www.aucbadminton.fr/event/annulation-creneau/
END:VEVENT
BEGIN:VEVENT
DTSTART;TZID=Europe/Paris:20231221T200000
DTEND;TZID=Europe/Paris:20231221T220000
DTSTAMP:20260423T192740
CREATED:20231211T082941Z
LAST-MODIFIED:20231211T083043Z
UID:2069-1703188800-1703196000@www.aucbadminton.fr
SUMMARY:SOIRÉE DE NOËL 🎄
DESCRIPTION:Qui dit fin d’année\, dit soirée de Noël !\nLe jeudi 21 décembre\, venez partager un moment convivial avec nous au gymnase Louison Bobet !\nLa soirée sera sous forme de jeux libre\, pour les jeunes de 18h à 20h et pour les adultes de 20h à 22h.\nNous partagerons un buffet\, n’oubliez donc pas d’emmener quelques mets à grignoter ou quelques boissons \nCette année\, nous avons décidé de venir en aide aux plus démunis. Voici comment vous pouvez\, vous aussi\, participer :\nChaque badiste peut amener un ou plusieurs objet(s) à offrir aux plus démunis (pour se réchauffer\, pour manger\, pour s’amuser ou des produits d’hygiène) \nLe jeudi 21 décembre\, lors de la soirée\, chaque participant pourra nous aider à confectionner “les Boîtes de Noël solidaires”. N’hésitez pas à amener des boîtes en carton si vous avez \nÀ la suite de la soirée\, nous emènerons les boîtes à la Croix Rouge ou aux points de collecte présents à Aix-en-Provence 
URL:http://www.aucbadminton.fr/event/soiree-de-noel-%f0%9f%8e%84/
END:VEVENT
END:VCALENDAR