BEGIN:VCALENDAR
VERSION:2.0
PRODID:-//AUC-badminton - ECPv6.15.20//NONSGML v1.0//EN
CALSCALE:GREGORIAN
METHOD:PUBLISH
X-WR-CALNAME:AUC-badminton
X-ORIGINAL-URL:http://www.aucbadminton.fr
X-WR-CALDESC:Events for AUC-badminton
REFRESH-INTERVAL;VALUE=DURATION:PT1H
X-Robots-Tag:noindex
X-PUBLISHED-TTL:PT1H
BEGIN:VTIMEZONE
TZID:Europe/Paris
BEGIN:DAYLIGHT
TZOFFSETFROM:+0100
TZOFFSETTO:+0200
TZNAME:CEST
DTSTART:20230326T010000
END:DAYLIGHT
BEGIN:STANDARD
TZOFFSETFROM:+0200
TZOFFSETTO:+0100
TZNAME:CET
DTSTART:20231029T010000
END:STANDARD
BEGIN:DAYLIGHT
TZOFFSETFROM:+0100
TZOFFSETTO:+0200
TZNAME:CEST
DTSTART:20240331T010000
END:DAYLIGHT
BEGIN:STANDARD
TZOFFSETFROM:+0200
TZOFFSETTO:+0100
TZNAME:CET
DTSTART:20241027T010000
END:STANDARD
BEGIN:DAYLIGHT
TZOFFSETFROM:+0100
TZOFFSETTO:+0200
TZNAME:CEST
DTSTART:20250330T010000
END:DAYLIGHT
BEGIN:STANDARD
TZOFFSETFROM:+0200
TZOFFSETTO:+0100
TZNAME:CET
DTSTART:20251026T010000
END:STANDARD
END:VTIMEZONE
BEGIN:VEVENT
DTSTART;TZID=Europe/Paris:20240501T090000
DTEND;TZID=Europe/Paris:20240501T220000
DTSTAMP:20260424T035619
CREATED:20240423T104306Z
LAST-MODIFIED:20240423T104306Z
UID:2431-1714554000-1714600800@www.aucbadminton.fr
SUMMARY:Pas de créneaux
DESCRIPTION:Jour férié
URL:http://www.aucbadminton.fr/event/pas-de-creneaux/
END:VEVENT
BEGIN:VEVENT
DTSTART;TZID=Europe/Paris:20240508T090000
DTEND;TZID=Europe/Paris:20240508T220000
DTSTAMP:20260424T035619
CREATED:20240423T104349Z
LAST-MODIFIED:20240423T104349Z
UID:2433-1715158800-1715205600@www.aucbadminton.fr
SUMMARY:Pas de créneaux
DESCRIPTION:Jour férié
URL:http://www.aucbadminton.fr/event/pas-de-creneaux-2/
END:VEVENT
BEGIN:VEVENT
DTSTART;TZID=Europe/Paris:20240509T090000
DTEND;TZID=Europe/Paris:20240509T220000
DTSTAMP:20260424T035619
CREATED:20240423T104422Z
LAST-MODIFIED:20240423T104422Z
UID:2435-1715245200-1715292000@www.aucbadminton.fr
SUMMARY:Pas de créneaux
DESCRIPTION:Jour férié
URL:http://www.aucbadminton.fr/event/pas-de-creneaux-3/
END:VEVENT
BEGIN:VEVENT
DTSTART;TZID=Europe/Paris:20240520T090000
DTEND;TZID=Europe/Paris:20240520T220000
DTSTAMP:20260424T035619
CREATED:20240423T104502Z
LAST-MODIFIED:20240423T104502Z
UID:2437-1716195600-1716242400@www.aucbadminton.fr
SUMMARY:Pas de créneaux
DESCRIPTION:Jour férié
URL:http://www.aucbadminton.fr/event/pas-de-creneaux-4/
END:VEVENT
BEGIN:VEVENT
DTSTART;TZID=Europe/Paris:20240525T090000
DTEND;TZID=Europe/Paris:20240525T190000
DTSTAMP:20260424T035619
CREATED:20240514T124456Z
LAST-MODIFIED:20240514T124456Z
UID:2466-1716627600-1716663600@www.aucbadminton.fr
SUMMARY:Pas de créneaux
DESCRIPTION:Jeu libre annulé en raison de notre accueil des finales des Interclubs Départementaux.
URL:http://www.aucbadminton.fr/event/pas-de-creneaux-5/
END:VEVENT
END:VCALENDAR